Workbook

Sheet Tablero
B2: Entregas de pedidos
B3: CUMPLIMIENTO
C6: DATASET PÚBLICO | G6: Northwind (base de datos de muestra de Microsoft). Pedidos de una distribuidora de alimentos, julio 1996 a mayo 1998. Copia en CSV del repositorio graphql-compose/graphql-compose-examples (licencia MIT). https://github.com/graphql-compose/graphql-compose-examples/tree/master/examples/northwind/data/csv
B9: Cumplimiento de fechas de entrega de una distribuidora: el mismo tipo de seguimiento que se hace con pagos y comprobantes.
B12: Pedidos analizados | F12: Enviados a tiempo | J12: Retraso promedio | N12: Pendientes de envío
B13: =COUNTA('cumplimiento-pedidos'!$A$2:$A$831) -> 830 | F13: =ROUND(100*COUNTIF('cumplimiento-pedidos'!$I$2:$I$831,"si")/(COUNTIF('cumplimiento-pedidos'!$I$2:$I$831,"si")+COUNTIF('cumplimiento-pedidos'!$I$2:$I$831,"no")),1) -> 95.4 | J13: =ROUND(AVERAGEIF('cumplimiento-pedidos'!$H$2:$H$831,">0"),1) -> 6.4 | N13: =COUNTIF('cumplimiento-pedidos'!$I$2:$I$831,"pendiente") -> 21
B14: jul 1996 a may 1998 | F14: 772 de 809 enviados | J14: en los 37 pedidos tardíos | N14: sin fecha de envío
B18: Cumplimiento de entrega por trimestre
B19: Porcentaje de pedidos enviados en o antes de la fecha requerida por el cliente, según el trimestre del pedido (trimestres completos).
O21: Enviados a tiempo | U21: Enviados a tiempo
K22: =T22 -> T3 96 | O22: =U22 -> 92.9 | T22: T3 96 | U22: =ROUND(100*COUNTIFS('cumplimiento-pedidos'!$J$2:$J$831,$X22,'cumplimiento-pedidos'!$H$2:$H$831,"<=0")/COUNTIFS('cumplimiento-pedidos'!$J$2:$J$831,$X22,'cumplimiento-pedidos'!$I$2:$I$831,"<>pendiente"),1) -> 92.9 | X22: T3 96
K23: =T23 -> T4 96 | O23: =U23 -> 97.6 | T23: T4 96 | U23: =ROUND(100*COUNTIFS('cumplimiento-pedidos'!$J$2:$J$831,$X23,'cumplimiento-pedidos'!$H$2:$H$831,"<=0")/COUNTIFS('cumplimiento-pedidos'!$J$2:$J$831,$X23,'cumplimiento-pedidos'!$I$2:$I$831,"<>pendiente"),1) -> 97.6 | X23: T4 96
K24: =T24 -> T1 97 | O24: =U24 -> 94.6 | T24: T1 97 | U24: =ROUND(100*COUNTIFS('cumplimiento-pedidos'!$J$2:$J$831,$X24,'cumplimiento-pedidos'!$H$2:$H$831,"<=0")/COUNTIFS('cumplimiento-pedidos'!$J$2:$J$831,$X24,'cumplimiento-pedidos'!$I$2:$I$831,"<>pendiente"),1) -> 94.6 | X24: T1 97
K25: =T25 -> T2 97 | O25: =U25 -> 95.7 | T25: T2 97 | U25: =ROUND(100*COUNTIFS('cumplimiento-pedidos'!$J$2:$J$831,$X25,'cumplimiento-pedidos'!$H$2:$H$831,"<=0")/COUNTIFS('cumplimiento-pedidos'!$J$2:$J$831,$X25,'cumplimiento-pedidos'!$I$2:$I$831,"<>pendiente"),1) -> 95.7 | X25: T2 97
K26: =T26 -> T3 97 | O26: =U26 -> 95.1 | T26: T3 97 | U26: =ROUND(100*COUNTIFS('cumplimiento-pedidos'!$J$2:$J$831,$X26,'cumplimiento-pedidos'!$H$2:$H$831,"<=0")/COUNTIFS('cumplimiento-pedidos'!$J$2:$J$831,$X26,'cumplimiento-pedidos'!$I$2:$I$831,"<>pendiente"),1) -> 95.1 | X26: T3 97
K27: =T27 -> T4 97 | O27: =U27 -> 93.3 | T27: T4 97 | U27: =ROUND(100*COUNTIFS('cumplimiento-pedidos'!$J$2:$J$831,$X27,'cumplimiento-pedidos'!$H$2:$H$831,"<=0")/COUNTIFS('cumplimiento-pedidos'!$J$2:$J$831,$X27,'cumplimiento-pedidos'!$I$2:$I$831,"<>pendiente"),1) -> 93.3 | X27: T4 97
K28: =T28 -> T1 98 | O28: =U28 -> 95.6 | T28: T1 98 | U28: =ROUND(100*COUNTIFS('cumplimiento-pedidos'!$J$2:$J$831,$X28,'cumplimiento-pedidos'!$H$2:$H$831,"<=0")/COUNTIFS('cumplimiento-pedidos'!$J$2:$J$831,$X28,'cumplimiento-pedidos'!$I$2:$I$831,"<>pendiente"),1) -> 95.6 | X28: T1 98
B37: • El cumplimiento global es de 95.4% sobre 809 pedidos enviados.
B38: • El mejor trimestre fue T4 1996 (97.6%) y el más bajo T3 1996 (92.9%).
B39: • Se omite el último trimestre (abril y mayo de 1998) porque los datos terminan a inicios de mayo.
B40: Dataset: cumplimiento-pedidos.csv (hoja incluida en este libro)
B44: Cumplimiento por transportista
B45: Porcentaje de entregas a tiempo según la empresa que movió el pedido.
O47: Valor | U47: Valor
K48: =T48 -> Federal Shipping (249) | O48: =U48 -> 96.4 | T48: =$X48&" ("&COUNTIFS('cumplimiento-pedidos'!$D$2:$D$831,$X48,'cumplimiento-pedidos'!$I$2:$I$831,"<>pendiente")&")" -> Federal Shipping (249) | U48: =ROUND(100*COUNTIFS('cumplimiento-pedidos'!$D$2:$D$831,$X48,'cumplimiento-pedidos'!$H$2:$H$831,"<=0")/COUNTIFS('cumplimiento-pedidos'!$D$2:$D$831,$X48,'cumplimiento-pedidos'!$I$2:$I$831,"<>pendiente"),1) -> 96.4 | X48: Federal Shipping
K49: =T49 -> Speedy Express (245) | O49: =U49 -> 95.1 | T49: =$X49&" ("&COUNTIFS('cumplimiento-pedidos'!$D$2:$D$831,$X49,'cumplimiento-pedidos'!$I$2:$I$831,"<>pendiente")&")" -> Speedy Express (245) | U49: =ROUND(100*COUNTIFS('cumplimiento-pedidos'!$D$2:$D$831,$X49,'cumplimiento-pedidos'!$H$2:$H$831,"<=0")/COUNTIFS('cumplimiento-pedidos'!$D$2:$D$831,$X49,'cumplimiento-pedidos'!$I$2:$I$831,"<>pendiente"),1) -> 95.1 | X49: Speedy Express
K50: =T50 -> United Package (315) | O50: =U50 -> 94.9 | T50: =$X50&" ("&COUNTIFS('cumplimiento-pedidos'!$D$2:$D$831,$X50,'cumplimiento-pedidos'!$I$2:$I$831,"<>pendiente")&")" -> United Package (315) | U50: =ROUND(100*COUNTIFS('cumplimiento-pedidos'!$D$2:$D$831,$X50,'cumplimiento-pedidos'!$H$2:$H$831,"<=0")/COUNTIFS('cumplimiento-pedidos'!$D$2:$D$831,$X50,'cumplimiento-pedidos'!$I$2:$I$831,"<>pendiente"),1) -> 94.9 | X50: United Package
B61: • Federal Shipping lidera con 96.4% y United Package cierra con 94.9%.
B62: • La diferencia entre el mejor y el peor es de 1.5 puntos porcentuales.
B63: • Entre paréntesis aparece el número de pedidos de cada transportista.
B64: Dataset: cumplimiento-pedidos.csv (hoja incluida en este libro)
B68: Los diez mayores retrasos
B69: Pedidos enviados con más días de retraso respecto a la fecha requerida.
B71: Pedido | G71: Cliente | I71: País | K71: Requerida | M71: Enviada | O71: Días de retraso
B72: 10777 | G72: =LEFT(INDEX('cumplimiento-pedidos'!$B$2:$B$831,MATCH(B72,'cumplimiento-pedidos'!$A$2:$A$831,0)),26) -> Gourmet Lanchonetes | I72: Brasil | K72: =INDEX('cumplimiento-pedidos'!$F$2:$F$831,MATCH(B72,'cumplimiento-pedidos'!$A$2:$A$831,0)) -> 35793 | M72: =INDEX('cumplimiento-pedidos'!$G$2:$G$831,MATCH(B72,'cumplimiento-pedidos'!$A$2:$A$831,0)) -> 35816 | O72: =INDEX('cumplimiento-pedidos'!$H$2:$H$831,MATCH(B72,'cumplimiento-pedidos'!$A$2:$A$831,0)) -> 23
B73: 10423 | G73: =LEFT(INDEX('cumplimiento-pedidos'!$B$2:$B$831,MATCH(B73,'cumplimiento-pedidos'!$A$2:$A$831,0)),26) -> Gourmet Lanchonetes | I73: Brasil | K73: =INDEX('cumplimiento-pedidos'!$F$2:$F$831,MATCH(B73,'cumplimiento-pedidos'!$A$2:$A$831,0)) -> 35467 | M73: =INDEX('cumplimiento-pedidos'!$G$2:$G$831,MATCH(B73,'cumplimiento-pedidos'!$A$2:$A$831,0)) -> 35485 | O73: =INDEX('cumplimiento-pedidos'!$H$2:$H$831,MATCH(B73,'cumplimiento-pedidos'!$A$2:$A$831,0)) -> 18
B74: 10726 | G74: =LEFT(INDEX('cumplimiento-pedidos'!$B$2:$B$831,MATCH(B74,'cumplimiento-pedidos'!$A$2:$A$831,0)),26) -> Eastern Connection | I74: Reino Unido | K74: =INDEX('cumplimiento-pedidos'!$F$2:$F$831,MATCH(B74,'cumplimiento-pedidos'!$A$2:$A$831,0)) -> 35751 | M74: =INDEX('cumplimiento-pedidos'!$G$2:$G$831,MATCH(B74,'cumplimiento-pedidos'!$A$2:$A$831,0)) -> 35769 | O74: =INDEX('cumplimiento-pedidos'!$H$2:$H$831,MATCH(B74,'cumplimiento-pedidos'!$A$2:$A$831,0)) -> 18
B75: 10970 | G75: =LEFT(INDEX('cumplimiento-pedidos'!$B$2:$B$831,MATCH(B75,'cumplimiento-pedidos'!$A$2:$A$831,0)),26) -> Bólido Comidas preparadas | I75: España | K75: =INDEX('cumplimiento-pedidos'!$F$2:$F$831,MATCH(B75,'cumplimiento-pedidos'!$A$2:$A$831,0)) -> 35892 | M75: =INDEX('cumplimiento-pedidos'!$G$2:$G$831,MATCH(B75,'cumplimiento-pedidos'!$A$2:$A$831,0)) -> 35909 | O75: =INDEX('cumplimiento-pedidos'!$H$2:$H$831,MATCH(B75,'cumplimiento-pedidos'!$A$2:$A$831,0)) -> 17
B76: 10515 | G76: =LEFT(INDEX('cumplimiento-pedidos'!$B$2:$B$831,MATCH(B76,'cumplimiento-pedidos'!$A$2:$A$831,0)),26) -> QUICK-Stop | I76: Alemania | K76: =INDEX('cumplimiento-pedidos'!$F$2:$F$831,MATCH(B76,'cumplimiento-pedidos'!$A$2:$A$831,0)) -> 35557 | M76: =INDEX('cumplimiento-pedidos'!$G$2:$G$831,MATCH(B76,'cumplimiento-pedidos'!$A$2:$A$831,0)) -> 35573 | O76: =INDEX('cumplimiento-pedidos'!$H$2:$H$831,MATCH(B76,'cumplimiento-pedidos'!$A$2:$A$831,0)) -> 16
B77: 10827 | G77: =LEFT(INDEX('cumplimiento-pedidos'!$B$2:$B$831,MATCH(B77,'cumplimiento-pedidos'!$A$2:$A$831,0)),26) -> Bon app' | I77: Francia | K77: =INDEX('cumplimiento-pedidos'!$F$2:$F$831,MATCH(B77,'cumplimiento-pedidos'!$A$2:$A$831,0)) -> 35821 | M77: =INDEX('cumplimiento-pedidos'!$G$2:$G$831,MATCH(B77,'cumplimiento-pedidos'!$A$2:$A$831,0)) -> 35832 | O77: =INDEX('cumplimiento-pedidos'!$H$2:$H$831,MATCH(B77,'cumplimiento-pedidos'!$A$2:$A$831,0)) -> 11
...

Sheet cumplimiento-pedidos
A1: pedido | B1: cliente | C1: pais_destino | D1: transportista | E1: fecha_pedido | F1: fecha_requerida | G1: fecha_envio | H1: dias_vs_fecha_requerida | I1: a_tiempo | J1: trimestre
A2: 10248 | B2: Vins et alcools Chevalier | C2: France | D2: Federal Shipping | E2: 35250 | F2: 35278 | G2: 35262 | H2: -16 | I2: si | J2: ="T"&ROUNDUP(MONTH(E2)/3,0)&" "&RIGHT(YEAR(E2),2) -> T3 96
A3: 10249 | B3: Toms Spezialitäten | C3: Germany | D3: Speedy Express | E3: 35251 | F3: 35293 | G3: 35256 | H3: -37 | I3: si | J3: ="T"&ROUNDUP(MONTH(E3)/3,0)&" "&RIGHT(YEAR(E3),2) -> T3 96
A4: 10250 | B4: Hanari Carnes | C4: Brazil | D4: United Package | E4: 35254 | F4: 35282 | G4: 35258 | H4: -24 | I4: si | J4: ="T"&ROUNDUP(MONTH(E4)/3,0)&" "&RIGHT(YEAR(E4),2) -> T3 96
A5: 10251 | B5: Victuailles en stock | C5: France | D5: Speedy Express | E5: 35254 | F5: 35282 | G5: 35261 | H5: -21 | I5: si | J5: ="T"&ROUNDUP(MONTH(E5)/3,0)&" "&RIGHT(YEAR(E5),2) -> T3 96
A6: 10252 | B6: Suprêmes délices | C6: Belgium | D6: United Package | E6: 35255 | F6: 35283 | G6: 35257 | H6: -26 | I6: si | J6: ="T"&ROUNDUP(MONTH(E6)/3,0)&" "&RIGHT(YEAR(E6),2) -> T3 96
A7: 10253 | B7: Hanari Carnes | C7: Brazil | D7: United Package | E7: 35256 | F7: 35270 | G7: 35262 | H7: -8 | I7: si | J7: ="T"&ROUNDUP(MONTH(E7)/3,0)&" "&RIGHT(YEAR(E7),2) -> T3 96
A8: 10254 | B8: Chop-suey Chinese | C8: Switzerland | D8: United Package | E8: 35257 | F8: 35285 | G8: 35269 | H8: -16 | I8: si | J8: ="T"&ROUNDUP(MONTH(E8)/3,0)&" "&RIGHT(YEAR(E8),2) -> T3 96
A9: 10255 | B9: Richter Supermarkt | C9: Switzerland | D9: Federal Shipping | E9: 35258 | F9: 35286 | G9: 35261 | H9: -25 | I9: si | J9: ="T"&ROUNDUP(MONTH(E9)/3,0)&" "&RIGHT(YEAR(E9),2) -> T3 96
A10: 10256 | B10: Wellington Importadora | C10: Brazil | D10: United Package | E10: 35261 | F10: 35289 | G10: 35263 | H10: -26 | I10: si | J10: ="T"&ROUNDUP(MONTH(E10)/3,0)&" "&RIGHT(YEAR(E10),2) -> T3 96
A11: 10257 | B11: HILARION-Abastos | C11: Venezuela | D11: Federal Shipping | E11: 35262 | F11: 35290 | G11: 35268 | H11: -22 | I11: si | J11: ="T"&ROUNDUP(MONTH(E11)/3,0)&" "&RIGHT(YEAR(E11),2) -> T3 96
A12: 10258 | B12: Ernst Handel | C12: Austria | D12: Speedy Express | E12: 35263 | F12: 35291 | G12: 35269 | H12: -22 | I12: si | J12: ="T"&ROUNDUP(MONTH(E12)/3,0)&" "&RIGHT(YEAR(E12),2) -> T3 96
A13: 10259 | B13: Centro comercial Moctezuma | C13: Mexico | D13: Federal Shipping | E13: 35264 | F13: 35292 | G13: 35271 | H13: -21 | I13: si | J13: ="T"&ROUNDUP(MONTH(E13)/3,0)&" "&RIGHT(YEAR(E13),2) -> T3 96
... A761: 11007 | B761: Princesa Isabel Vinhos | C761: Portugal | D761: United Package | E761: 35893 | F761: 35921 | G761: 35898 | H761: -23 | I761: si | J761: ="T"&ROUNDUP(MONTH(E761)/3,0)&" "&RIGHT(YEAR(E761),2) -> T2 98
A762: 11008 | B762: Ernst Handel | C762: Austria | D762: Federal Shipping | E762: 35893 | F762: 35921 | I762: pendiente | J762: ="T"&ROUNDUP(MONTH(E762)/3,0)&" "&RIGHT(YEAR(E762),2) -> T2 98
A763: 11009 | B763: Godos Cocina Típica | C763: Spain | D763: Speedy Express | E763: 35893 | F763: 35921 | G763: 35895 | H763: -26 | I763: si | J763: ="T"&ROUNDUP(MONTH(E763)/3,0)&" "&RIGHT(YEAR(E763),2) -> T2 98
A764: 11010 | B764: Reggiani Caseifici | C764: Italy | D764: United Package | E764: 35894 | F764: 35922 | G764: 35906 | H764: -16 | I764: si | J764: ="T"&ROUNDUP(MONTH(E764)/3,0)&" "&RIGHT(YEAR(E764),2) -> T2 98
A765: 11011 | B765: Alfreds Futterkiste | C765: Germany | D765: Speedy Express | E765: 35894 | F765: 35922 | G765: 35898 | H765: -24 | I765: si | J765: ="T"&ROUNDUP(MONTH(E765)/3,0)&" "&RIGHT(YEAR(E765),2) -> T2 98
A766: 11012 | B766: Frankenversand | C766: Germany | D766: Federal Shipping | E766: 35894 | F766: 35908 | G766: 35902 | H766: -6 | I766: si | J766: ="T"&ROUNDUP(MONTH(E766)/3,0)&" "&RIGHT(YEAR(E766),2) -> T2 98
A767: 11013 | B767: Romero y tomillo | C767: Spain | D767: Speedy Express | E767: 35894 | F767: 35922 | G767: 35895 | H767: -27 | I767: si | J767: ="T"&ROUNDUP(MONTH(E767)/3,0)&" "&RIGHT(YEAR(E767),2) -> T2 98
A768: 11014 | B768: LINO-Delicateses | C768: Venezuela | D768: Federal Shipping | E768: 35895 | F768: 35923 | G768: 35900 | H768: -23 | I768: si | J768: ="T"&ROUNDUP(MONTH(E768)/3,0)&" "&RIGHT(YEAR(E768),2) -> T2 98
A769: 11015 | B769: Santé Gourmet | C769: Norway | D769: United Package | E769: 35895 | F769: 35909 | G769: 35905 | H769: -4 | I769: si | J769: ="T"&ROUNDUP(MONTH(E769)/3,0)&" "&RIGHT(YEAR(E769),2) -> T2 98
A770: 11016 | B770: Around the Horn | C770: UK | D770: United Package | E770: 35895 | F770: 35923 | G770: 35898 | H770: -25 | I770: si | J770: ="T"&ROUNDUP(MONTH(E770)/3,0)&" "&RIGHT(YEAR(E770),2) -> T2 98
A771: 11017 | B771: Ernst Handel | C771: Austria | D771: United Package | E771: 35898 | F771: 35926 | G771: 35905 | H771: -21 | I771: si | J771: ="T"&ROUNDUP(MONTH(E771)/3,0)&" "&RIGHT(YEAR(E771),2) -> T2 98
A772: 11018 | B772: Lonesome Pine Restaurant | C772: USA | D772: United Package | E772: 35898 | F772: 35926 | G772: 35901 | H772: -25 | I772: si | J772: ="T"&ROUNDUP(MONTH(E772)/3,0)&" "&RIGHT(YEAR(E772),2) -> T2 98
A773: 11019 | B773: Rancho grande | C773: Argentina | D773: Federal Shipping | E773: 35898 | F773: 35926 | I773: pendiente | J773: ="T"&ROUNDUP(MONTH(E773)/3,0)&" "&RIGHT(YEAR(E773),2) -> T2 98
A774: 11020 | B774: Ottilies Käseladen | C774: Germany | D774: United Package | E774: 35899 | F774: 35927 | G774: 35901 | H774: -26 | I774: si | J774: ="T"&ROUNDUP(MONTH(E774)/3,0)&" "&RIGHT(YEAR(E774),2) -> T2 98
A775: 11021 | B775: QUICK-Stop | C775: Germany | D775: Speedy Express | E775: 35899 | F775: 35927 | G775: 35906 | H775: -21 | I775: si | J775: ="T"&ROUNDUP(MONTH(E775)/3,0)&" "&RIGHT(YEAR(E775),2) -> T2 98
A776: 11022 | B776: Hanari Carnes | C776: Brazil | D776: United Package | E776: 35899 | F776: 35927 | G776: 35919 | H776: -8 | I776: si | J776: ="T"&ROUNDUP(MONTH(E776)/3,0)&" "&RIGHT(YEAR(E776),2) -> T2 98
A777: 11023 | B777: B's Beverages | C777: UK | D777: United Package | E777: 35899 | F777: 35913 | G777: 35909 | H777: -4 | I777: si | J777: ="T"&ROUNDUP(MONTH(E777)/3,0)&" "&RIGHT(YEAR(E777),2) -> T2 98
A778: 11024 | B778: Eastern Connection | C778: UK | D778: Speedy Express | E778: 35900 | F778: 35928 | G778: 35905 | H778: -23 | I778: si | J778: ="T"&ROUNDUP(MONTH(E778)/3,0)&" "&RIGHT(YEAR(E778),2) -> T2 98
A779: 11025 | B779: Wartian Herkku | C779: Finland | D779: Federal Shipping | E779: 35900 | F779: 35928 | G779: 35909 | H779: -19 | I779: si | J779: ="T"&ROUNDUP(MONTH(E779)/3,0)&" "&RIGHT(YEAR(E779),2) -> T2 98
A780: 11026 | B780: Franchi S.p.A. | C780: Italy | D780: Speedy Express | E780: 35900 | F780: 35928 | G780: 35913 | H780: -15 | I780: si | J780: ="T"&ROUNDUP(MONTH(E780)/3,0)&" "&RIGHT(YEAR(E780),2) -> T2 98
A781: 11027 | B781: Bottom-Dollar Markets | C781: Canada | D781: Speedy Express | E781: 35901 | F781: 35929 | G781: 35905 | H781: -24 | I781: si | J781: ="T"&ROUNDUP(MONTH(E781)/3,0)&" "&RIGHT(YEAR(E781),2) -> T2 98
A782: 11028 | B782: Königlich Essen | C782: Germany | D782: Speedy Express | E782: 35901 | F782: 35929 | G782: 35907 | H782: -22 | I782: si | J782: ="T"&ROUNDUP(MONTH(E782)/3,0)&" "&RIGHT(YEAR(E782),2) -> T2 98
A783: 11029 | B783: Chop-suey Chinese | C783: Switzerland | D783: Speedy Express | E783: 35901 | F783: 35929 | G783: 35912 | H783: -17 | I783: si | J783: ="T"&ROUNDUP(MONTH(E783)/3,0)&" "&RIGHT(YEAR(E783),2) -> T2 98
A784: 11030 | B784: Save-a-lot Markets | C784: USA | D784: United Package | E784: 35902 | F784: 35930 | G784: 35912 | H784: -18 | I784: si | J784: ="T"&ROUNDUP(MONTH(E784)/3,0)&" "&RIGHT(YEAR(E784),2) -> T2 98
A785: 11031 | B785: Save-a-lot Markets | C785: USA | D785: United Package | E785: 35902 | F785: 35930 | G785: 35909 | H785: -21 | I785: si | J785: ="T"&ROUNDUP(MONTH(E785)/3,0)&" "&RIGHT(YEAR(E785),2) -> T2 98
... A792: 11038 | B792: Suprêmes délices | C792: Belgium | D792: United Package | E792: 35906 | F792: 35934 | G792: 35915 | H792: -19 | I792: si | J792: ="T"&ROUNDUP(MONTH(E792)/3,0)&" "&RIGHT(YEAR(E792),2) -> T2 98
A793: 11039 | B793: LINO-Delicateses | C793: Venezuela | D793: United Package | E793: 35906 | F793: 35934 | I793: pendiente | J793: ="T"&ROUNDUP(MONTH(E793)/3,0)&" "&RIGHT(YEAR(E793),2) -> T2 98
...
